BEGIN:VCALENDAR
VERSION:2.0
CALSCALE:GREGORIAN
PRODID:-//Diputació de Barcelona//DibaCMS//EN
BEGIN:VEVENT
UID:3279
DTSTAMP:20260425T221457
DTSTART:20260430T163000
DTEND:20260430T163000
SUMMARY:Curs de màquina de cosir - Sessió de presentació
LOCATION:C/ Vista al Montseny, 15 08317 Òrrius
METHOD:PUBLISH
X-WR-CALNAME:orrius@orrius.cat
X-WR-TIMEZONE:Europe/Madrid
DESCRIPTION:Primera sessió per conèixer el curs, resoldre dubtes, inquietuds...

URI:https://www.orrius.cat/actualitat/agenda/curs-de-maquina-de-cosir-sessio-de-presentacio.html
CLASS:PUBLIC
END:VEVENT
END:VCALENDAR
