BEGIN:VCALENDAR
VERSION:2.0
CALSCALE:GREGORIAN
PRODID:-//Diputació de Barcelona//DibaCMS//EN
BEGIN:VEVENT
UID:3278
DTSTAMP:20260422T150540
DTSTART:20260422T170000
DTEND:20260422T170000
SUMMARY:Taller de mini donuts a Can Mestres
LOCATION:C/ Vista al Montseny, 15 08317 Òrrius
METHOD:PUBLISH
X-WR-CALNAME:orrius@orrius.cat
X-WR-TIMEZONE:Europe/Madrid
DESCRIPTION:
URI:https://www.orrius.cat/actualitat/agenda/taller-de-mini-donuts-a-can-mestres.html
CLASS:PUBLIC
END:VEVENT
END:VCALENDAR
