BEGIN:VCALENDAR
VERSION:2.0
CALSCALE:GREGORIAN
PRODID:-//Diputació de Barcelona//DibaCMS//EN
BEGIN:VEVENT
UID:3269
DTSTAMP:20260421T104928
DTSTART:20260416T170000
DTEND:20260416T170000
SUMMARY:Xerrada-Taller "Parlem del joc. Com acompanyar-lo sense interrompre'l" - Cau de les Famílies
LOCATION:
METHOD:PUBLISH
X-WR-CALNAME:orrius@orrius.cat
X-WR-TIMEZONE:Europe/Madrid
DESCRIPTION:Pensada per a l’etapa 0-3 anys

URI:https://www.orrius.cat/actualitat/agenda/xerrada-taller-parlem-del-joc-com-acompanyar-lo-sense-interromprel-cau-de-les-families.html
CLASS:PUBLIC
END:VEVENT
END:VCALENDAR
