BEGIN:VCALENDAR
VERSION:2.0
CALSCALE:GREGORIAN
PRODID:-//Diputació de Barcelona//DibaCMS//EN
BEGIN:VEVENT
UID:3228
DTSTAMP:20260420T105558
DTSTART:20260306T114000
DTEND:20260306T114000
SUMMARY:Banca Mòbil - Caixa Enginyers
LOCATION:
METHOD:PUBLISH
X-WR-CALNAME:orrius@orrius.cat
X-WR-TIMEZONE:Europe/Madrid
DESCRIPTION:
URI:https://www.orrius.cat/actualitat/agenda/3228-banca-mobil-caixa-enginyers.html
CLASS:PUBLIC
END:VEVENT
END:VCALENDAR
