BEGIN:VCALENDAR
VERSION:2.0
CALSCALE:GREGORIAN
PRODID:-//Diputació de Barcelona//DibaCMS//EN
BEGIN:VEVENT
UID:3205
DTSTAMP:20260426T034156
DTSTART:20260201T180000
DTEND:20260201T200000
SUMMARY:Cicle Gaudí: "Una quinta portuguesa" - Direcció: Avelina Prat
LOCATION:C/ Església, s/n 08317 Òrrius
METHOD:PUBLISH
X-WR-CALNAME:orrius@orrius.cat
X-WR-TIMEZONE:Europe/Madrid
DESCRIPTION:Apta per a tots els públics

URI:https://www.orrius.cat/actualitat/cicle-gaudi/cicle-gaudi-una-quinta-portuguesa-direccio-avelina-prat.html
CLASS:PUBLIC
END:VEVENT
END:VCALENDAR
