BEGIN:VCALENDAR
VERSION:2.0
CALSCALE:GREGORIAN
PRODID:-//Diputació de Barcelona//DibaCMS//EN
BEGIN:VEVENT
UID:3037
DTSTAMP:20260423T111701
DTSTART:20250725T200000
DTEND:20250725T210000
SUMMARY:FM - Espectacle itinerant "El carrer és nostre" 
LOCATION:Inici: Piscina - Plaça del Maig 
METHOD:PUBLISH
X-WR-CALNAME:orrius@orrius.cat
X-WR-TIMEZONE:Europe/Madrid
DESCRIPTION:A càrrec de l'Always Drinking Marching Band

URI:https://www.orrius.cat/actualitat/agenda/fm-espectacle-itinerant-el-carrer-es-nostre-.html
CLASS:PUBLIC
END:VEVENT
END:VCALENDAR
