BEGIN:VCALENDAR
VERSION:2.0
CALSCALE:GREGORIAN
PRODID:-//Diputació de Barcelona//DibaCMS//EN
BEGIN:VEVENT
UID:2934
DTSTAMP:20260425T232941
DTSTART:20250301T140000
DTEND:20250301T200000
SUMMARY:Calçostoltes 2025
LOCATION:Plaça de l'Església 
METHOD:PUBLISH
X-WR-CALNAME:orrius@orrius.cat
X-WR-TIMEZONE:Europe/Madrid
DESCRIPTION:Organitza: Xàldigues del Morro Negre - Amb el suport: Ajuntament d'Òrrius

URI:https://www.orrius.cat/actualitat/agenda/calcostoltes-2025.html
CLASS:PUBLIC
END:VEVENT
END:VCALENDAR
