BEGIN:VCALENDAR
VERSION:2.0
CALSCALE:GREGORIAN
PRODID:-//Diputació de Barcelona//DibaCMS//EN
BEGIN:VEVENT
UID:2799
DTSTAMP:20260421T150617
DTSTART:20240823T213000
DTEND:20240823T230000
SUMMARY:Vespre Musical: "Willio". Cases de la Música
LOCATION:Passatge del Club, s/n 08317 Òrrius
METHOD:PUBLISH
X-WR-CALNAME:orrius@orrius.cat
X-WR-TIMEZONE:Europe/Madrid
DESCRIPTION:
URI:https://www.orrius.cat/actualitat/agenda/vespre-musical-willio-cases-de-la-musica.html
CLASS:PUBLIC
END:VEVENT
END:VCALENDAR
