BEGIN:VCALENDAR
VERSION:2.0
CALSCALE:GREGORIAN
PRODID:-//Diputació de Barcelona//DibaCMS//EN
BEGIN:VEVENT
UID:2775
DTSTAMP:20260423T162856
DTSTART:20240729T210000
DTEND:20240729T210000
SUMMARY:FM Estiu - Sopar de germanor
LOCATION:
METHOD:PUBLISH
X-WR-CALNAME:orrius@orrius.cat
X-WR-TIMEZONE:Europe/Madrid
DESCRIPTION:Organitza: Colla Gegantera de l'Andreu de ScéllecS

URI:https://www.orrius.cat/actualitat/agenda/fm-estiu-sopar-de-germanor.html
CLASS:PUBLIC
END:VEVENT
END:VCALENDAR
