BEGIN:VCALENDAR
VERSION:2.0
CALSCALE:GREGORIAN
PRODID:-//Diputació de Barcelona//DibaCMS//EN
BEGIN:VEVENT
UID:1733
DTSTAMP:20260419T201706
DTSTART:20210127T160000
DTEND:20210127T180000
SUMMARY:Bibliobús
LOCATION:C/Lleida 
METHOD:PUBLISH
X-WR-CALNAME:orrius@orrius.cat
X-WR-TIMEZONE:Europe/Madrid
DESCRIPTION:
URI:https://www.orrius.cat/actualitat/agenda/1733-bibliobus.html
CLASS:PUBLIC
END:VEVENT
END:VCALENDAR
