BEGIN:VCALENDAR
VERSION:2.0
CALSCALE:GREGORIAN
PRODID:-//Diputació de Barcelona//DibaCMS//EN
BEGIN:VEVENT
UID:1570
DTSTAMP:20260425T154650
DTSTART:20200713T180000
DTEND:20200713T200000
SUMMARY:Literaturitza't a la fresca. El follet pastisser.
LOCATION:
METHOD:PUBLISH
X-WR-CALNAME:orrius@orrius.cat
X-WR-TIMEZONE:Europe/Madrid
DESCRIPTION:La Mandarina viu amb la seva àvia en una casa en mig del bosc. Cada dia per adormir-se llegeix un conte, fins que una nit un soroll de les golfes interromp la lectura.

A càrrec d’Eva González

 

URI:https://www.orrius.cat/actualitat/agenda/literaturitzat-a-la-fresca-el-follet-pastisser.html
CLASS:PUBLIC
END:VEVENT
END:VCALENDAR
